BEGIN:VCALENDAR
PRODID:-//IONAS//RIS//DE
VERSION:2.0
CALSCALE:GREGORIAN
BEGIN:VEVENT
DTSTAMP:20260424T231206Z
DTSTART:20261013T180000
DTEND:20261013T190000
SUMMARY:Rechnungsprüfungsausschuss (32. Sitzung)
LOCATION:Rathaus\, Ratssaal\, Am Markt 1\, 48282 Emsdetten
DESCRIPTION:
UID:0p4yPxLkGhJda9wc
END:VEVENT
END:VCALENDAR
