BEGIN:VCALENDAR
PRODID:-//IONAS//RIS//DE
VERSION:2.0
CALSCALE:GREGORIAN
BEGIN:VEVENT
DTSTAMP:20260424T231207Z
DTSTART:20260803T163000
DTEND:20260803T183000
SUMMARY:BEIRAT Ü60 (44. Sitzung)
LOCATION:Rathaus\, Raum 101\, Am Markt 1\, 48282 Emsdetten
DESCRIPTION:
UID:1bPWulrewqP4Diz0
END:VEVENT
END:VCALENDAR
