BEGIN:VCALENDAR
PRODID:-//IONAS//RIS//DE
VERSION:2.0
CALSCALE:GREGORIAN
BEGIN:VEVENT
DTSTAMP:20260424T231206Z
DTSTART:20261012T163000
DTEND:20261012T183000
SUMMARY:BEIRAT Ü60 (46. Sitzung)
LOCATION:Rathaus\, Raum 101\, Am Markt 1\, 48282 Emsdetten
DESCRIPTION:
UID:49_dbhe1J0wgvkjf
END:VEVENT
END:VCALENDAR
