BEGIN:VCALENDAR
PRODID:-//IONAS//RIS//DE
VERSION:2.0
CALSCALE:GREGORIAN
BEGIN:VEVENT
DTSTAMP:20260424T231208Z
DTSTART:20261221T163000
DTEND:20261221T183000
SUMMARY:BEIRAT Ü60 (48. Sitzung)
LOCATION:Rathaus\, Raum 101\, Am Markt 1\, 48282 Emsdetten
DESCRIPTION:
UID:8FJlr_paoZhYoAMQ
END:VEVENT
END:VCALENDAR
