BEGIN:VCALENDAR
PRODID:-//IONAS//RIS//DE
VERSION:2.0
CALSCALE:GREGORIAN
BEGIN:VEVENT
DTSTAMP:20260424T231212Z
DTSTART:20261116T163000
DTEND:20261116T183000
SUMMARY:BEIRAT Ü60 (47. Sitzung)
LOCATION:Rathaus\, Raum 101\, Am Markt 1\, 48282 Emsdetten
DESCRIPTION:
UID:C_0BzwAkmKVeqk2E
END:VEVENT
END:VCALENDAR
