BEGIN:VCALENDAR
PRODID:-//IONAS//RIS//DE
VERSION:2.0
CALSCALE:GREGORIAN
BEGIN:VEVENT
DTSTAMP:20260424T231206Z
DTSTART:20260519T180000
DTEND:20260519T200000
SUMMARY:Inklusionsbeirat (34. Sitzung)
LOCATION:Rathaus\, Raum 101\, Am Markt 1\, 48282 Emsdetten
DESCRIPTION:
UID:MaTQnMXyGaSJeFlF
END:VEVENT
END:VCALENDAR
