BEGIN:VCALENDAR
PRODID:-//IONAS//RIS//DE
VERSION:2.0
CALSCALE:GREGORIAN
BEGIN:VEVENT
DTSTAMP:20260424T231209Z
DTSTART:20261110T180000
DTEND:20261110T200000
SUMMARY:Inklusionsbeirat (37. Sitzung)
LOCATION:Rathaus\, Raum 101\, Am Markt 1\, 48282 Emsdetten
DESCRIPTION:
UID:PS0HZX0Fw6DeQwkh
END:VEVENT
END:VCALENDAR
