BEGIN:VCALENDAR
PRODID:-//IONAS//RIS//DE
VERSION:2.0
CALSCALE:GREGORIAN
BEGIN:VEVENT
DTSTAMP:20260424T231212Z
DTSTART:20260622T163000
DTEND:20260622T183000
SUMMARY:BEIRAT Ü60 (43. Sitzung)
LOCATION:Rathaus\, Raum 101\, Am Markt 1\, 48282 Emsdetten
DESCRIPTION:
UID:azqFejXHKD1jYea3
END:VEVENT
END:VCALENDAR
