BEGIN:VCALENDAR
PRODID:-//IONAS//RIS//DE
VERSION:2.0
CALSCALE:GREGORIAN
BEGIN:VEVENT
DTSTAMP:20260424T231208Z
DTSTART:20260907T163000
DTEND:20260907T183000
SUMMARY:BEIRAT Ü60 (45. Sitzung)
LOCATION:Rathaus\, Raum 101\, Am Markt 1\, 48282 Emsdetten
DESCRIPTION:
UID:eH2L_xRysRpu0tnV
END:VEVENT
END:VCALENDAR
