BEGIN:VCALENDAR
PRODID:-//IONAS//RIS//DE
VERSION:2.0
CALSCALE:GREGORIAN
BEGIN:VEVENT
DTSTAMP:20260424T231209Z
DTSTART:20260420T163000
DTEND:20260420T183000
SUMMARY:BEIRAT Ü60 (41. Sitzung)
LOCATION:Rathaus\, Raum 101\, Am Markt 1\, 48282 Emsdetten
DESCRIPTION:
UID:lvaZicIKO8gltTbS
END:VEVENT
END:VCALENDAR
