BEGIN:VCALENDAR
PRODID:-//IONAS//RIS//DE
VERSION:2.0
CALSCALE:GREGORIAN
BEGIN:VEVENT
DTSTAMP:20260424T231208Z
DTSTART:20261006T180000
DTEND:20261006T200000
SUMMARY:Inklusionsbeirat (36. Sitzung)
LOCATION:Rathaus\, Raum 101\, Am Markt 1\, 48282 Emsdetten
DESCRIPTION:
UID:nTNeXrspnVUEBlC7
END:VEVENT
END:VCALENDAR
