BEGIN:VCALENDAR
PRODID:-//IONAS//RIS//DE
VERSION:2.0
CALSCALE:GREGORIAN
BEGIN:VEVENT
DTSTAMP:20260424T231212Z
DTSTART:20260630T180000
DTEND:20260630T200000
SUMMARY:Inklusionsbeirat (35. Sitzung)
LOCATION:Rathaus\, Raum 101\, Am Markt 1\, 48282 Emsdetten
DESCRIPTION:
UID:uCGmkwl2gNv7wMGF
END:VEVENT
END:VCALENDAR
